BEGIN:VCALENDAR
VERSION:2.0
PRODID:-//ChamberMaster//Event Calendar 2.0//EN
METHOD:PUBLISH
X-PUBLISHED-TTL:P3D
REFRESH-INTERVAL:P3D
CALSCALE:GREGORIAN
BEGIN:VEVENT
DTSTART:20240715T143000Z
DTEND:20240715T230000Z
X-MICROSOFT-CDO-ALLDAYEVENT:FALSE
SUMMARY:48th Annual GLOW Abili-TEES Golf & Bocce Tournament
DESCRIPTION:The 48th Annual Arc GLOW Abili-TEES Golf and Bocce Tournament to help support our programs to empower individuals with intellectual and developmental disabilities. Golf foursomes and Bocce teams are forming now.  We are looking forward to welcoming you to Terry Hills Golf Course.
X-ALT-DESC;FMTTYPE=text/html:<span style="font-family:arial\,helvetica\,sans-serif"><span style="font-size:16px">The 48th Annual Arc GLOW Abili-TEES Golf and Bocce Tournament to help support our programs to empower individuals with intellectual and developmental disabilities. Golf foursomes and Bocce teams are forming now.&nbsp\;&nbsp\;</span><span style="color:black"><span style="font-size:12.0pt">We are looking forward to welcoming you to Terry Hills Golf Course.</span></span></span><br />\n&nbsp\;
LOCATION:Terry Hills Golf Course 5122 Clinton Street Road Batavia\, NY 14020
UID:e.3461.3056
SEQUENCE:3
DTSTAMP:20260421T195142Z
URL:https://members.geneseeny.com/events/details/48th-annual-glow-abili-tees-golf-bocce-tournament-3056
END:VEVENT

END:VCALENDAR
