BEGIN:VCALENDAR
VERSION:2.0
PRODID:-//ChamberMaster//Event Calendar 2.0//EN
METHOD:PUBLISH
X-PUBLISHED-TTL:P3D
REFRESH-INTERVAL:P3D
CALSCALE:GREGORIAN
BEGIN:VEVENT
DTSTART:20250325T123000Z
DTEND:20250325T150000Z
X-MICROSOFT-CDO-ALLDAYEVENT:FALSE
SUMMARY:Business Workshop Series | HR for Small Business
DESCRIPTION:HR for Small Business\n\nJoin us for an insightful HR for Small Business workshop\, where business owners and HR professionals will gain practical knowledge to navigate the complexities of human resources.\n\n\n\nThis event features expert panelists and presenters who will cover key HR topics\, including:\n\n\n	\n	State Labor Requirements: Understanding local\, state\, and federal labor laws to ensure compliance.\n	\n	\n	Employment Categories: Differentiating between full-time\, part-time\, and contract employees\, and the implications of each.\n	\n	\n	Employment Handbook: Top level topics in creating a comprehensive handbook outlining company policies\, expectations\, and legal protections.\n	\n\n\nIn addition to these foundational topics\, we will explore:\n\n\n	\n	Workplace Safety: Best practices for maintaining a safe and compliant work environment.\n	\n	\n	Interviewing Best Practices: Effective strategies for conducting interviews\, selecting top talent\, and questions that you are not allowed to ask.\n	\n\n\n\n	\n	Successful Onboarding Practices: Strategies for welcoming new staff and setting the stage for long term retention.\n	\n	Exit Interviews: Why they are important for moving forward.\n\n\nThe workshop will conclude with:\n\n\n	\n	Open Discussion: A chance to ask questions\, share experiences\, and clarify any uncertainties.\n	\n	\n	Networking Opportunities: Connect with fellow business owners and HR professionals to exchange ideas\, strengthen your business\, and to continue the conversations.\n	\n\n\nThis workshop is an excellent opportunity to enhance your HR knowledge and implement best practices for the success of your small business!\n\n \n\n\nCurrent Panelist / Presenters Include:\n\n\n\nTina Curtis\, CNAP\, PHR\, SPHR\n\nGenesee Community College Foundation\n\nDirector of Finance and Human Resources\n\n \n\nNorb Fuest\n\nApple Tree HR & Safety Consultants\n\nOwner - Consultant\n\n\n\nHeather Allaire\, BA\, SHRM-CP\n\nGraham Manufacturing\n\nHuman Resources Manager\n\n\n\nKristine Rudgers\n\nSUNY Brockport - Small Business Development Center\n\nSmall Business Advisor\n\n\n\nRebecca McGee\n\nHuman Resources Professional
X-ALT-DESC;FMTTYPE=text/html:<div style="line-height: 1.4\; direction: ltr\; margin-left: 0px\;">\n<h3 data-end="272" data-start="0"><strong><span style="font-family:arial\;">HR for Small Business</span></strong></h3>\n\n<p data-end="272" data-start="0"><span style="font-family:arial\;">Join us for an insightful HR for Small Business workshop\, where business owners and HR professionals will gain practical knowledge to navigate the complexities of human resources.<br />\n<br />\nThis event features expert panelists and presenters who will cover key HR topics\, including:</span></p>\n\n<ul data-end="638" data-start="274">\n	<li data-end="378" data-start="274">\n	<p><span style="font-family:arial\;"><strong data-end="305" data-start="276">State Labor Requirements:</strong> Understanding local\, state\, and federal labor laws to ensure compliance.</span></p>\n	</li>\n	<li data-end="507" data-start="379">\n	<p><span style="font-family:arial\;"><strong data-end="407" data-start="381">Employment Categories:</strong> Differentiating between full-time\, part-time\, and contract employees\, and the implications of each.</span></p>\n	</li>\n	<li data-end="638" data-start="508">\n	<p><span style="font-family:arial\;"><strong data-end="534" data-start="510">Employment Handbook:</strong>&nbsp\;Top level topics in creating a comprehensive handbook outlining company policies\, expectations\, and legal protections.</span></p>\n	</li>\n</ul>\n\n<p data-end="698" data-start="640"><span style="font-family:arial\;">In addition to these foundational topics\, we will explore:</span></p>\n\n<ul data-end="904" data-start="700">\n	<li data-end="793" data-start="700">\n	<p><span style="font-family:arial\;"><strong data-end="723" data-start="702">Workplace Safety:</strong> Best practices for maintaining a safe and compliant work environment.</span></p>\n	</li>\n	<li data-end="901" data-start="794">\n	<p><span style="font-family:arial\;"><strong data-end="828" data-start="796">Interviewing Best Practices:</strong> Effective strategies for conducting interviews\, selecting top talent\, and questions that you are not allowed to ask.</span></p>\n	</li>\n</ul>\n\n<ul data-end="904" data-start="700">\n	<li data-end="901" data-start="794">\n	<p><span style="font-family: arial\;"><strong data-end="828" data-start="796">Successful Onboarding&nbsp\;Practices:</strong>&nbsp\;Strategies for welcoming new staff and setting the stage for long term retention.</span></p>\n	</li>\n	<li data-end="937" data-start="905"><strong data-end="828" data-start="796" style="font-family: arial\;">Exit Interviews:</strong><span style="font-family:arial\;">&nbsp\;Why they are important for moving forward.</span></li>\n</ul>\n\n<p data-end="937" data-start="905"><span style="font-family:arial\;">The workshop will conclude with:</span></p>\n\n<ul data-end="1185" data-start="939">\n	<li data-end="1038" data-start="939">\n	<p><span style="font-family:arial\;"><strong data-end="961" data-start="941">Open Discussion:</strong> A chance to ask questions\, share experiences\, and clarify any uncertainties.</span></p>\n	</li>\n	<li data-end="1185" data-start="1039">\n	<p><span style="font-family:arial\;"><strong data-end="1070" data-start="1041">Networking Opportunities:</strong> Connect with fellow business owners and HR professionals to exchange ideas\,&nbsp\;strengthen your business\, and to continue the conversations.</span></p>\n	</li>\n</ul>\n\n<p data-end="1326" data-is-last-node="" data-is-only-node="" data-start="1187"><span style="font-family:arial\;">This workshop is an excellent opportunity to enhance your HR knowledge and implement best practices for the success of your small business!</span><br />\n&nbsp\;</p>\n</div>\n\n<p><span style="font-family:arial\;"><span style="color: rgb(0\, 0\, 0)\; letter-spacing: 0em\;"><u><strong>Current Panelist / Presenters Include:</strong></u></span><br />\n<br />\n<strong><span style="color: rgb(31\, 31\, 31)\;">Tina Curtis\, CNAP\, PHR\, SPHR</span></strong><br style="color: rgb(31\, 31\, 31)\; font-family: arial\, sans-serif\; font-size: 16px\;" />\n<span style="color: rgb(31\, 31\, 31)\;">Genesee Community College Foundation</span><br />\n<span style="color: rgb(31\, 31\, 31)\;">Director of Finance and Human Resources</span><br />\n&nbsp\;<br />\n<strong><font color="#1f1f1f" style="font-family: arial\, sans-serif\; font-size: 16px\;">Norb Fuest</font></strong><br />\n<span style="color: rgb(31\, 31\, 31)\;">Apple Tree HR &amp\; Safety Consultants<br />\nOwner - Consultant</span><br />\n<br />\n<strong><span style="color: rgb(0\, 0\, 0)\;">Heather Allaire\, BA\, SHRM-CP</span></strong><br style="color: rgb(0\, 0\, 0)\; font-family: arial\, sans-serif\; font-size: 16px\;" />\n<span style="color: rgb(0\, 0\, 0)\;">Graham Manufacturing</span><br />\n<span style="color: rgb(0\, 0\, 0)\;">Human Resources Manager</span><br />\n<br />\n<strong style="font-size: 14px\;"><span style="color: rgb(0\, 0\, 0)\;">Kristine Rudgers</span></strong><br style="color: rgb(0\, 0\, 0)\; font-family: arial\, sans-serif\; font-size: 16px\;" />\n<span style="color: rgb(0\, 0\, 0)\;">SUNY Brockport - Small Business Development Center</span><br style="font-size: 14px\;" />\n<span style="color: rgb(0\, 0\, 0)\;">Small Business Advisor</span></span><br />\n<br />\n<strong style="font-family: arial\; font-size: 14px\;"><span style="color: rgb(0\, 0\, 0)\;">Rebecca McGee</span></strong><br style="color: rgb(0\, 0\, 0)\; font-family: arial\, sans-serif\; font-size: 16px\;" />\n<span style="font-family: arial\; color: rgb(0\, 0\, 0)\;">Human Resources Professional</span></p>\n
LOCATION:Genesee Community College The BEST Center Room: T119
UID:e.3461.3327
SEQUENCE:3
DTSTAMP:20260420T125238Z
URL:https://members.geneseeny.com/events/details/business-workshop-series-hr-for-small-business-3327
END:VEVENT

END:VCALENDAR
