BEGIN:VCALENDAR
VERSION:2.0
PRODID:-//ChamberMaster//Event Calendar 2.0//EN
METHOD:PUBLISH
X-PUBLISHED-TTL:P3D
REFRESH-INTERVAL:P3D
CALSCALE:GREGORIAN
BEGIN:VEVENT
DTSTART:20220923T220000Z
DTEND:20220924T000000Z
X-MICROSOFT-CDO-ALLDAYEVENT:FALSE
SUMMARY:Fall Paint and Pour | Gillam Grant
DESCRIPTION:Check out our Fall Paint and Pour Class coming up on Friday\, September 23rd. You don't need to be an artist to participate. Our instructor will guide your through the steps to help you create 3 beautiful fall leaf paintings. Feel free to bring a beverage to pour while you paint and socialize with your friends. Sign up today at https://www.gillamgrant.org/registration/
X-ALT-DESC;FMTTYPE=text/html:<span style="color: rgb(5\, 5\, 5)\; font-family: &quot\;Segoe UI Historic&quot\;\, &quot\;Segoe UI&quot\;\, Helvetica\, Arial\, sans-serif\; font-size: 15px\;">Check out our Fall Paint and Pour Class coming up on Friday\, September 23rd. You don&#39\;t need to be an artist to participate. Our instructor will guide your through the steps to help you create 3 beautiful fall leaf paintings. Feel free to bring a beverage to pour while you paint and socialize with your friends. Sign up today at&nbsp\;</span><span style="font-family: &quot\;Segoe UI Historic&quot\;\, &quot\;Segoe UI&quot\;\, Helvetica\, Arial\, sans-serif\; color: rgb(5\, 5\, 5)\; font-size: 15px\;"><a class="qi72231t nu7423ey n3hqoq4p r86q59rh b3qcqh3k fq87ekyn bdao358l fsf7x5fv rse6dlih s5oniofx m8h3af8h l7ghb35v kjdc1dyq kmwttqpk srn514ro oxkhqvkx rl78xhln nch0832m cr00lzj9 rn8ck1ys s3jn8y49 icdlwmnq cxfqmxzd ezidihy3" href="https://l.facebook.com/l.php?u=https%3A%2F%2Fwww.gillamgrant.org%2Fregistration%2F%3Ffbclid%3DIwAR349p8bJb5qFXHTpAZUDIKkoNkTpgqoTGsLxGq61La-v5cHB36JgfkqOL8&amp\;h=AT2N8hOMlAEWZ5njy9XqIBeKjFID_PmhbgS6B96WM6RREDwdsJZOphx6oIz_oBJqmdrXJWdBj5iKr8EY7qG5H8flnV9Rnk32VyWt4StheQZeUdBqsLxL5Ube12qkm8YX&amp\;__tn__=-UK*F&amp\;c[0]=AT2NhaG7yWmYP-Z_nSWgOPGG8UtG5vjYxmBS1mt_kj-zWNhainchN1oBcL78IA5a-SSjcKUaT6Ve64k_QUPEHJ4R5OBCjOUsZJehzpslUfEj12jtl_-Wl6FpqDY9TZJ9K-YHGVpBRWxCLJu2IUAbyeKUbfmuOA7kd8AiWP7PT2FtjLsp694GFmjMzW_dz6dfOqvUBt_GjF60g8o" rel="nofollow" role="link" style="color: var(--blue-link)\; cursor: pointer\; text-decoration-line: none\; outline: none\; list-style: none\; border-width: 0px\; border-style: initial\; border-color: initial\; box-sizing: border-box\; text-align: inherit\; margin: 0px\; padding: 0px\; background-color: transparent\; -webkit-tap-highlight-color: transparent\; display: inline\; touch-action: manipulation\; font-family: inherit\;" tabindex="0" target="_blank">https://www.gillamgrant.org/registration/</a></span>
LOCATION:Gillam Grant Community Center 6966 West Bergen Rd Berge\, NY 14416
UID:e.3461.1716
SEQUENCE:3
DTSTAMP:20260420T133650Z
URL:https://members.geneseeny.com/events/details/fall-paint-and-pour-gillam-grant-1716
END:VEVENT

END:VCALENDAR
