BEGIN:VCALENDAR
VERSION:2.0
PRODID:-//ChamberMaster//Event Calendar 2.0//EN
METHOD:PUBLISH
X-PUBLISHED-TTL:P3D
REFRESH-INTERVAL:P3D
CALSCALE:GREGORIAN
BEGIN:VEVENT
DTSTART:20240921T140000Z
DTEND:20240922T200000Z
X-MICROSOFT-CDO-ALLDAYEVENT:FALSE
SUMMARY:Godfrey's Pond National Hunting & Fishing Days Fall Festival and Open House
DESCRIPTION:In observance of our National Hunting & Fishing Days\, the Fall Festival and Open House is being held in recognition of the sportsmen/women around the country and what our Charter is about as a Conservation Club at Godfrey's Pond.\n\n\n\nThis two-day event (10:00 a.m.   4:00 p.m. each day) will host a Car Show\, local vendors\, demonstrations\, Civil War artillery enactment\, Basket Raffle\, Kids' Activities\, a 3K Walk/Scavenger Hunt\, great food and more! Come and join us for this family-friendly event.
X-ALT-DESC;FMTTYPE=text/html:<div>In observance of our National Hunting &amp\; Fishing Days\, the Fall Festival and Open House is being held in recognition of the sportsmen/women around the country and what our Charter is about as a Conservation Club at Godfrey&rsquo\;s Pond.</div>\n\n<div><br />\nThis two-day event (10:00 a.m. &ndash\; 4:00 p.m. each day) will host a Car Show\, local vendors\, demonstrations\, Civil War artillery enactment\, Basket Raffle\, Kids&#39\; Activities\, a 3K Walk/Scavenger Hunt\, great food and more! Come and join us for this family-friendly event.</div>\n
LOCATION:7929 Bigelow Drive\, Bergen\, NY 14416
UID:e.3461.3134
SEQUENCE:3
DTSTAMP:20260424T154851Z
URL:https://members.geneseeny.com/events/details/godfrey-s-pond-national-hunting-fishing-days-fall-festival-and-open-house-3134
END:VEVENT

END:VCALENDAR
