BEGIN:VCALENDAR
VERSION:2.0
PRODID:-//ChamberMaster//Event Calendar 2.0//EN
METHOD:PUBLISH
X-PUBLISHED-TTL:P3D
REFRESH-INTERVAL:P3D
CALSCALE:GREGORIAN
BEGIN:VEVENT
DTSTART:20230926T120000Z
DTEND:20230926T200000Z
X-MICROSOFT-CDO-ALLDAYEVENT:FALSE
SUMMARY:Greater Rochester Resilience Summit
DESCRIPTION:Small businesses are the lifeblood of our community\, and safeguarding their future is paramount. Introducing the Greater Rochester Resilience Summit\, an exclusive event dedicated to enhancing the resilience of local small businesses through comprehensive cyber and physical security strategies.\n\nWhy Attend: As cyber threats and physical vulnerabilities continue to evolve\, small businesses are faced with challenges that demand proactive measures. The Greater Rochester Resilience Summit brings together a constellation of leaders\, experts\, and practitioners to illuminate the path towards a more secure business environment.\n\nBenefits for Small Businesses:\n\n   Comprehensive Insights: Gain access to the latest insights and emerging trends in both cyber and physical security domains. Learn from seasoned professionals about the threats your business may face and how to thwart them effectively.\n\n   Tailored Solutions: Discover customized security recommendations and that are tailored to the unique needs and size of your small business. Our experts will provide actionable strategies that can be easily implemented to fortify your security posture.\n\n   Networking Opportunities: Connect with a diverse community of fellow small business owners\, security experts\, and law enforcement representatives. Forge valuable connections that can offer support and guidance beyond the summit.\n\n   Welcoming Remarks: Gather as a community united by a common goal kicking off the event with Lindsay Ward\, Regional Director\, SUNY Brockport SBDC and Malik Evans\, 71st Mayor of Rochester\, NY.\n\n   Special Keynote Speakers: Benefit from the wisdom of our esteemed keynote speakers\, including John Katko\, Former Congressman and Ranking Member of Homeland Security Committee\, District Senior Advisor at Security Scorecard\, Senior Advisor at Hill East Group\, LLC.\, and Bryan Lagarde\, Executive Director of Project NOLA National Real-Time Crime Information & Fusion Center at UNO. Their experience and insights will illuminate new perspectives on security.\n\n   Local Experts: Jeremy Harrison\, Owner\, Aries Security and Training LLC\; Drs. Eric Owusu\, Dr. Stacy Nicholson & Dr. Zakariya Qawaqneh\, SUNY Brockport Department of Computing Sciences offering a rare blend of theoretical knowledge and practical strategies to bolster your business's security.\n\n   Small Business Safety Panel: Hear firsthand from local experts\, including Keith Stith from the Rochester Police Department (RPD)\, Bijaya Khadka from House of Refuge\, Amanda West and Mark Battaglia\, representatives from Tompkins Financials and the SUNY Brockport Department of Computing Sciences Faculty fusing strategies\, insights and experiences that will shed light on security challenges unique to the Greater Rochester area.
X-ALT-DESC;FMTTYPE=text/html:<p style="margin: 0px\; padding: 0px\; box-sizing: border-box\; color: rgb(111\, 114\, 135)\; font-size: 16px\; line-height: 1.5rem\; font-family: &quot\;Neue Plak&quot\;\, -apple-system\, BlinkMacSystemFont\, Roboto\, &quot\;Helvetica Neue&quot\;\, Helvetica\, Tahoma\, Arial\, sans-serif\;">Small businesses are the lifeblood of our community\, and safeguarding their future is paramount. Introducing the Greater Rochester Resilience Summit\, an exclusive event dedicated to enhancing the resilience of local small businesses through comprehensive cyber and physical security strategies.</p>\n\n<p style="margin: 0px\; padding: 10px 0px 0px\; box-sizing: border-box\; color: rgb(111\, 114\, 135)\; font-size: 16px\; line-height: 1.5rem\; font-family: &quot\;Neue Plak&quot\;\, -apple-system\, BlinkMacSystemFont\, Roboto\, &quot\;Helvetica Neue&quot\;\, Helvetica\, Tahoma\, Arial\, sans-serif\;">Why Attend: As cyber threats and physical vulnerabilities continue to evolve\, small businesses are faced with challenges that demand proactive measures. The Greater Rochester Resilience Summit brings together a constellation of leaders\, experts\, and practitioners to illuminate the path towards a more secure business environment.</p>\n\n<p style="margin: 0px\; padding: 10px 0px 0px\; box-sizing: border-box\; color: rgb(111\, 114\, 135)\; font-size: 16px\; line-height: 1.5rem\; font-family: &quot\;Neue Plak&quot\;\, -apple-system\, BlinkMacSystemFont\, Roboto\, &quot\;Helvetica Neue&quot\;\, Helvetica\, Tahoma\, Arial\, sans-serif\;">Benefits for Small Businesses:</p>\n\n<p style="margin: 0px\; padding: 10px 0px 0px\; box-sizing: border-box\; color: rgb(111\, 114\, 135)\; font-size: 16px\; line-height: 1.5rem\; font-family: &quot\;Neue Plak&quot\;\, -apple-system\, BlinkMacSystemFont\, Roboto\, &quot\;Helvetica Neue&quot\;\, Helvetica\, Tahoma\, Arial\, sans-serif\;">&#128737\;&#65039\; Comprehensive Insights: Gain access to the latest insights and emerging trends in both cyber and physical security domains. Learn from seasoned professionals about the threats your business may face and how to thwart them effectively.</p>\n\n<p style="margin: 0px\; padding: 10px 0px 0px\; box-sizing: border-box\; color: rgb(111\, 114\, 135)\; font-size: 16px\; line-height: 1.5rem\; font-family: &quot\;Neue Plak&quot\;\, -apple-system\, BlinkMacSystemFont\, Roboto\, &quot\;Helvetica Neue&quot\;\, Helvetica\, Tahoma\, Arial\, sans-serif\;">&#128737\;&#65039\; Tailored Solutions: Discover customized security recommendations and that are tailored to the unique needs and size of your small business. Our experts will provide actionable strategies that can be easily implemented to fortify your security posture.</p>\n\n<p style="margin: 0px\; padding: 10px 0px 0px\; box-sizing: border-box\; color: rgb(111\, 114\, 135)\; font-size: 16px\; line-height: 1.5rem\; font-family: &quot\;Neue Plak&quot\;\, -apple-system\, BlinkMacSystemFont\, Roboto\, &quot\;Helvetica Neue&quot\;\, Helvetica\, Tahoma\, Arial\, sans-serif\;">&#128737\;&#65039\; Networking Opportunities: Connect with a diverse community of fellow small business owners\, security experts\, and law enforcement representatives. Forge valuable connections that can offer support and guidance beyond the summit.</p>\n\n<p style="margin: 0px\; padding: 10px 0px 0px\; box-sizing: border-box\; color: rgb(111\, 114\, 135)\; font-size: 16px\; line-height: 1.5rem\; font-family: &quot\;Neue Plak&quot\;\, -apple-system\, BlinkMacSystemFont\, Roboto\, &quot\;Helvetica Neue&quot\;\, Helvetica\, Tahoma\, Arial\, sans-serif\;">&#128737\;&#65039\; Welcoming Remarks: Gather as a community united by a common goal kicking off the event with Lindsay Ward\, Regional Director\, SUNY Brockport SBDC and Malik Evans\, 71st Mayor of Rochester\, NY.</p>\n\n<p style="margin: 0px\; padding: 10px 0px 0px\; box-sizing: border-box\; color: rgb(111\, 114\, 135)\; font-size: 16px\; line-height: 1.5rem\; font-family: &quot\;Neue Plak&quot\;\, -apple-system\, BlinkMacSystemFont\, Roboto\, &quot\;Helvetica Neue&quot\;\, Helvetica\, Tahoma\, Arial\, sans-serif\;">&#128737\;&#65039\; Special Keynote Speakers: Benefit from the wisdom of our esteemed keynote speakers\, including John Katko\, Former Congressman and Ranking Member of Homeland Security Committee\, District Senior Advisor at Security Scorecard\, Senior Advisor at Hill East Group\, LLC.\, and Bryan Lagarde\, Executive Director of Project NOLA National Real-Time Crime Information &amp\; Fusion Center at UNO. Their experience and insights will illuminate new perspectives on security.</p>\n\n<p style="margin: 0px\; padding: 10px 0px 0px\; box-sizing: border-box\; color: rgb(111\, 114\, 135)\; font-size: 16px\; line-height: 1.5rem\; font-family: &quot\;Neue Plak&quot\;\, -apple-system\, BlinkMacSystemFont\, Roboto\, &quot\;Helvetica Neue&quot\;\, Helvetica\, Tahoma\, Arial\, sans-serif\;">&#128737\;&#65039\; Local Experts: Jeremy Harrison\, Owner\, Aries Security and Training LLC\; Drs. Eric Owusu\, Dr. Stacy Nicholson &amp\; Dr. Zakariya Qawaqneh\, SUNY Brockport Department of Computing Sciences offering a rare blend of theoretical knowledge and practical strategies to bolster your business&#39\;s security.</p>\n\n<p style="margin: 0px\; padding: 10px 0px 0px\; box-sizing: border-box\; color: rgb(111\, 114\, 135)\; font-size: 16px\; line-height: 1.5rem\; font-family: &quot\;Neue Plak&quot\;\, -apple-system\, BlinkMacSystemFont\, Roboto\, &quot\;Helvetica Neue&quot\;\, Helvetica\, Tahoma\, Arial\, sans-serif\;">&#128737\;&#65039\; Small Business Safety Panel: Hear firsthand from local experts\, including Keith Stith from the Rochester Police Department (RPD)\, Bijaya Khadka from House of Refuge\, Amanda West and Mark Battaglia\, representatives from Tompkins Financials and the SUNY Brockport Department of Computing Sciences Faculty fusing strategies\, insights and experiences that will shed light on security challenges unique to the Greater Rochester area.</p>\n
LOCATION:Directions to Parking Locations: Washington Square Garage: Located just a short distance from the event venue\, the Washington Square Garage offers a convenient parking solution. On-Street Metered Parking: For those looking for a more flexible parking option\, on-street metered parking is available around the event venue.
UID:e.3461.2754
SEQUENCE:3
DTSTAMP:20260424T123755Z
URL:https://members.geneseeny.com/events/details/greater-rochester-resilience-summit-2754
END:VEVENT

END:VCALENDAR
