BEGIN:VCALENDAR
VERSION:2.0
PRODID:-//ChamberMaster//Event Calendar 2.0//EN
METHOD:PUBLISH
X-PUBLISHED-TTL:P3D
REFRESH-INTERVAL:P3D
CALSCALE:GREGORIAN
BEGIN:VEVENT
DTSTART:20241010T200000Z
DTEND:20241010T210000Z
X-MICROSOFT-CDO-ALLDAYEVENT:FALSE
SUMMARY:Speed Networking | Tonawanda Valley Federal Credit Union
DESCRIPTION:Our speedy networking event is designed to provide you with a quick and efficient way to expand your network and build valuable relationships. You will have the chance to engage in meaningful conversations\, exchange business cards\, and explore potential collaborations. Whether you are a seasoned professional looking to expand your reach or a newcomer seeking to make your mark\, our speedy networking event is the place to be. So\, don't miss out on this fantastic opportunity to network\, learn\, and grow.
X-ALT-DESC;FMTTYPE=text/html:<span class="OYPEnA text-decoration-none text-strikethrough-none" style="color: rgb(0\, 0\, 0)\;">Our speedy networking event is designed to provide you with a quick and efficient way to expand your network and build valuable relationships. You will have the chance to engage in meaningful conversations\, exchange business cards\, and explore potential collaborations. Whether you are a seasoned professional looking to expand your reach or a newcomer seeking to make your mark\, our speedy networking event is the place to be. So\, don&#39\;t miss out on this fantastic opportunity to network\, learn\, and grow.</span>
LOCATION:Tonawanda Valley Federal Credit Union
UID:e.3461.3112
SEQUENCE:3
DTSTAMP:20260422T045942Z
URL:https://members.geneseeny.com/events/details/speed-networking-tonawanda-valley-federal-credit-union-3112
END:VEVENT

END:VCALENDAR
