BEGIN:VCALENDAR
VERSION:2.0
PRODID:-//ChamberMaster//Event Calendar 2.0//EN
METHOD:PUBLISH
X-PUBLISHED-TTL:P3D
REFRESH-INTERVAL:P3D
CALSCALE:GREGORIAN
BEGIN:VEVENT
DTSTART:20220927T190000Z
DTEND:20220927T210000Z
X-MICROSOFT-CDO-ALLDAYEVENT:FALSE
SUMMARY:Teen BINGO! | Richmond Memorial Library
DESCRIPTION:Teens join us BINGO!!\n\nWin cool Prizes!!!\n\nTuesday afternoons in September & October starting 9/13/22.\n\nIn the Gallery
X-ALT-DESC;FMTTYPE=text/html:<p style="box-sizing: inherit\; margin: 0px 0px 1rem\; padding: 0px\; font-size: 15.68px\; line-height: 1.6\; text-rendering: optimizelegibility\; color: rgb(68\, 68\, 68)\; font-family: &quot\;Open Sans&quot\;\;">Teens join us BINGO!!</p>\n\n<p style="box-sizing: inherit\; margin: 0px 0px 1rem\; padding: 0px\; font-size: 15.68px\; line-height: 1.6\; text-rendering: optimizelegibility\; color: rgb(68\, 68\, 68)\; font-family: &quot\;Open Sans&quot\;\;">Win cool Prizes!!!</p>\n\n<p style="box-sizing: inherit\; margin: 0px 0px 1rem\; padding: 0px\; font-size: 15.68px\; line-height: 1.6\; text-rendering: optimizelegibility\; color: rgb(68\, 68\, 68)\; font-family: &quot\;Open Sans&quot\;\;">Tuesday afternoons in September &amp\; October starting 9/13/22.</p>\n\n<p style="box-sizing: inherit\; margin: 0px 0px 1rem\; padding: 0px\; font-size: 15.68px\; line-height: 1.6\; text-rendering: optimizelegibility\; color: rgb(68\, 68\, 68)\; font-family: &quot\;Open Sans&quot\;\;">In the Gallery</p>\n
LOCATION:Richmond Memorial Library
UID:e.3461.1687
SEQUENCE:3
DTSTAMP:20260422T094952Z
URL:https://members.geneseeny.com/events/details/teen-bingo-09-27-2022-1687
END:VEVENT

END:VCALENDAR
