BEGIN:VCALENDAR
VERSION:2.0
PRODID:-//ChamberMaster//Event Calendar 2.0//EN
METHOD:PUBLISH
X-PUBLISHED-TTL:P3D
REFRESH-INTERVAL:P3D
CALSCALE:GREGORIAN
BEGIN:VEVENT
DTSTART:20240627T220000Z
DTEND:20240627T230000Z
X-MICROSOFT-CDO-ALLDAYEVENT:FALSE
SUMMARY:Thirsty Pages: Poetry & Prose
DESCRIPTION:Starting in January 2024 on the 4th Thursdays from 6-7pm at GO ART! come and learn some of the basics of creative writing and participate in some fun creative writing activities (blackout poetry\, object poetry\, short stories and more)  to get your creativity flowing or you can just come and network with other creative writers.\n\nThere is no cost to participate in this program.  Please bring a notebook with you (or a computer) to keep your work on.
X-ALT-DESC;FMTTYPE=text/html:<p>Starting in January 2024 on the 4th Thursdays from 6-7pm&nbsp\;at GO ART! come and learn some of the basics of creative writing and participate in some fun creative writing activities (blackout poetry\, object poetry\, short stories and more) &nbsp\;to get your creativity flowing or you can just come and network with other creative writers.</p>\n\n<p><span style="font-size:14px"><span style="color:var( --e-global-color-text )\; font-family:var( --e-global-typography-text-font-family )\,sans-serif">There is no cost to participate in this program. &nbsp\;Please bring a notebook with you (or a computer) to keep your work on.</span></span></p>\n
LOCATION:GO ART! 201 E. Main St Batavia\, NY 14020
UID:e.3461.3004
SEQUENCE:3
DTSTAMP:20260424T115812Z
URL:https://members.geneseeny.com/events/details/thirsty-pages-poetry-prose-06-27-2024-3004
END:VEVENT

END:VCALENDAR
